BEGIN:VCALENDAR
VERSION:2.0
PRODID:-//FeG Bielefeld - ECPv6.15.20//NONSGML v1.0//EN
CALSCALE:GREGORIAN
METHOD:PUBLISH
X-ORIGINAL-URL:https://feg-bielefeld.de
X-WR-CALDESC:Veranstaltungen für FeG Bielefeld
REFRESH-INTERVAL;VALUE=DURATION:PT1H
X-Robots-Tag:noindex
X-PUBLISHED-TTL:PT1H
BEGIN:VTIMEZONE
TZID:UTC
BEGIN:STANDARD
TZOFFSETFROM:+0000
TZOFFSETTO:+0000
TZNAME:UTC
DTSTART:20240101T000000
END:STANDARD
END:VTIMEZONE
BEGIN:VEVENT
DTSTART;VALUE=DATE:20260527
DTEND;VALUE=DATE:20260601
DTSTAMP:20260421T175423
CREATED:20181216T145454Z
LAST-MODIFIED:20260319T214247Z
UID:279-1779840000-1780271999@feg-bielefeld.de
SUMMARY:LEGO®-Tage in der Gemeinde
DESCRIPTION:Einladung zu den LEGO®-Tagen\nBauen\, staunen\, kreativ sein! Du bist zwischen 8 und 12 Jahren alt? Dann bist du bei unseren LEGO®-Tagen genau richtig! Gemeinsam bauen wir aus unzähligen bunten Steinen eine riesige Stadt. Jeden Tag wird sie größer – mit neuen Häusern\, Straßen und verrückten Ideen. Am Ende entsteht etwas\, das keiner alleine schaffen könnte. Zum Abschluss laden wir auch deine Eltern ein: Gemeinsam könnt ihr die fertige Stadt entdecken und bestaunen. Sei dabei und bau mit – wir brauchen deine Ideen! \nHier geht’s zur Anmeldung!\n  \nWann wird gebaut?insgesamt vom 27. – 31. Mai\nMi. – Fr.: 16:30 – 19:00 Uhr mit ElterncaféFr.: Eltern-Kind-Bauen; Essen im AnschlussSa.: 10:00 – 12:00 UhrSo.: 10:00 Uhr Familiengottesdienst→ Mittagessen im Anschluss \nKosten10 € pro Kind für alle Tage zusammen \nAlter8 – 12 Jahre \nRückfragenbei Eva Woodcraftlegotage@bielefeld.feg.de
URL:https://feg-bielefeld.de/event/lego-tage-in-der-gemeinde/
LOCATION:FeG Bielefeld\, Lipper Hellweg 271\, Bielefeld\, 33605
ATTACH;FMTTYPE=image/jpeg:https://feg-bielefeld.de/wp-content/uploads/2018/12/signal-2026-03-19-103553_002.jpeg
END:VEVENT
BEGIN:VEVENT
DTSTART;VALUE=DATE:20251005
DTEND;VALUE=DATE:20251202
DTSTAMP:20260421T175423
CREATED:20181014T145137Z
LAST-MODIFIED:20251004T154317Z
UID:275-1759622400-1764633599@feg-bielefeld.de
SUMMARY:Potluck – jeden ersten Sonntag im Monat!
DESCRIPTION:Potluck – Jeden ersten Sonntag im Monat\nWir lieben es\, gemeinsam an einem Tisch zu sitzen – zu essen\, zu lachen und einander besser kennenzulernen.Deshalb laden wir jeden ersten Sonntag im Monat herzlich zu unserem Potluck-Gemeindemittag ein! \nJede und jeder bringt eine Kleinigkeit zum Teilen mit: egal ob Salat\, Auflauf\, Nachtisch oder etwas Herzhaftes aus eurer Küche.Aus all den mitgebrachten Speisen entsteht ein großes\, buntes Buffet – so vielfältig wie unsere Gemeinde selbst. \nOb du regelmäßig dabei bist\, ganz neu in der FeG oder einfach mal vorbeischauen möchtest – du bist herzlich willkommen.Für Getränke\, Geschirr und Besteck ist gesorgt. \nKomm\, iss mit uns und genieße die Gemeinschaft!
URL:https://feg-bielefeld.de/event/2018-kenya-mission-trip/
LOCATION:FeG Bielefeld\, Lipper Hellweg 271\, Bielefeld\, 33605
ATTACH;FMTTYPE=image/jpeg:https://feg-bielefeld.de/wp-content/uploads/2018/10/potluck-scaled.jpg
END:VEVENT
END:VCALENDAR